BEGIN:VCALENDAR
VERSION:2.0
PRODID:-//Gesund alt werden - ECPv6.2.3.2//NONSGML v1.0//EN
CALSCALE:GREGORIAN
METHOD:PUBLISH
X-WR-CALNAME:Gesund alt werden
X-ORIGINAL-URL:https://gesundaltwerden.eu
X-WR-CALDESC:Veranstaltungen für Gesund alt werden
REFRESH-INTERVAL;VALUE=DURATION:PT1H
X-Robots-Tag:noindex
X-PUBLISHED-TTL:PT1H
BEGIN:VTIMEZONE
TZID:Europe/Rome
BEGIN:DAYLIGHT
TZOFFSETFROM:+0100
TZOFFSETTO:+0200
TZNAME:CEST
DTSTART:20200329T010000
END:DAYLIGHT
BEGIN:STANDARD
TZOFFSETFROM:+0200
TZOFFSETTO:+0100
TZNAME:CET
DTSTART:20201025T010000
END:STANDARD
END:VTIMEZONE
BEGIN:VEVENT
DTSTART;TZID=Europe/Rome:20200313T193000
DTEND;TZID=Europe/Rome:20200313T213000
DTSTAMP:20260426T024229
CREATED:20200303T171228Z
LAST-MODIFIED:20200303T171238Z
UID:2483-1584127800-1584135000@gesundaltwerden.eu
SUMMARY:Gesund leben
DESCRIPTION:Buchvorstellung: Worüber Frau nicht spricht \n\n\n\nIch will mit meinem Buch „Worüber Frau nicht spricht“ offen über die verschiedensten Probleme und Tabus sprechen.Ich musste in meinem Leben mehrere Tiefschläge einstecken. Nach meinem zweiten Selbstmordversuch bekam ich in der psychiatrischen Abteilung in Bruneck langsam den Lebenswillen zurück. Seit 2017 gebe ich als ausgebildete Sozialbetreuerin auf meiner Facebookseite „Gesund alt werden“ in unzähligen Videos Tipps um bewusst alt zu werden oder lange jung zu bleiben und will mit meinem Buch mehr Wissen\, Verständnis und Toleranz für bestimmte Themen unter die Menschen bringen.
URL:https://gesundaltwerden.eu/vortraege/gesund-leben/
LOCATION:Athesia Sterzing\, Altstadt 9\, Sterzing\, 39049\, Italien
ATTACH;FMTTYPE=image/jpeg:https://gesundaltwerden.eu/wp-content/uploads/2020/02/worueber-frau-nicht-spricht.jpg
END:VEVENT
END:VCALENDAR