BEGIN:VCALENDAR
VERSION:2.0
PRODID:-//Gesund alt werden - ECPv6.2.3.2//NONSGML v1.0//EN
CALSCALE:GREGORIAN
METHOD:PUBLISH
X-ORIGINAL-URL:https://gesundaltwerden.eu
X-WR-CALDESC:Veranstaltungen für Gesund alt werden
REFRESH-INTERVAL;VALUE=DURATION:PT1H
X-Robots-Tag:noindex
X-PUBLISHED-TTL:PT1H
BEGIN:VTIMEZONE
TZID:Europe/Rome
BEGIN:DAYLIGHT
TZOFFSETFROM:+0100
TZOFFSETTO:+0200
TZNAME:CEST
DTSTART:20190331T010000
END:DAYLIGHT
BEGIN:STANDARD
TZOFFSETFROM:+0200
TZOFFSETTO:+0100
TZNAME:CET
DTSTART:20191027T010000
END:STANDARD
END:VTIMEZONE
BEGIN:VEVENT
DTSTART;TZID=Europe/Rome:20191103T150000
DTEND;TZID=Europe/Rome:20191103T170000
DTSTAMP:20260426T062818
CREATED:20190711T093102Z
LAST-MODIFIED:20190723T114457Z
UID:1879-1572793200-1572800400@gesundaltwerden.eu
SUMMARY:Genießen erlaubt\, aber richtig!
DESCRIPTION:Bei meinem Vortrag geht es darum\, mehr Bewusstsein zu schaffen\, was jede einzelne Person für ihre Gesund-Erhaltung tun kann. Wie wir unseren Kindern einen gesunden Start in ihr Leben ermöglichen und wie Senioren dem Leben nicht nur mehr Jahre abtrotzen\, sondern den zusätzlichen Jahren auch mehr Lebens-Qualität geben. Bei diesem Vortrag übermittle ich in anregender\, leicht verständlicher Weise Methoden und Praktiken\, die zu einer besseren Gesundheit beitragen und einfach in den Alltag zu integrieren sind.    \n\n\n\nNehmen wir unser Schicksal wieder selbst in die Hand!
URL:https://gesundaltwerden.eu/vortraege/geniessen-erlaubt-aber-richtig-7/
LOCATION:Ursulinenkloster Bruneck\, Tschurtschenthaler-Park\, 1\, Bruneck\, 39031\, Italien
ATTACH;FMTTYPE=image/jpeg:https://gesundaltwerden.eu/wp-content/uploads/2018/12/48208591_540097933164660_3664902057602580480_o.jpg
END:VEVENT
BEGIN:VEVENT
DTSTART;TZID=Europe/Rome:20191105T193000
DTEND;TZID=Europe/Rome:20191105T213000
DTSTAMP:20260426T062818
CREATED:20191003T074429Z
LAST-MODIFIED:20191021T143137Z
UID:2063-1572982200-1572989400@gesundaltwerden.eu
SUMMARY:Fit und vital mit den besten Gesundmachern aus der Natur
DESCRIPTION:Ein bewusster Lebensstil ist das Fundament\, um möglichst bis ins hohe Alter fit und autonom zu bleiben. Der moderne Mensch wird heute zwar deutlich älter als noch vor 100 Jahren\, doch um seine Gesundheit ist es nicht allzu gut bestellt. Das liegt auch daran\, dass wir täglich vielen Gift- und Schadstoffen ausgesetzt sind\, die wir als solche gar nicht wahrnehmen oder von deren Existenz wir nichts wissen bzw. nichts wissen wollen.  \n\n\n\nDennoch ist es möglich\, aus eigener Kraft gesund und dynamisch zu bleiben\, wenn man die „Hauptkrankmacher“ erkennt. In meinem Vortrag erfahren Sie\,  \n\n\n\nwie Sie sich vor Schadstoffen in Lebensmittel schützen\,wie Sie Ihren Organismus mit allen nötigen Nährstoffen versorgen\, die er braucht\, um fit und vital zu bleiben\,wie Sie Ihren körpereigenen Entgiftungsmechanismus unterstützen.\n\n\nGesundheit und Vitalität sind die Grundlage für ein erfülltes Leben! All jene die wissen\, was unsere Beschwerden und Krankheiten auslöst\, stoßen unweigerlich auf die besten Gesundmacher! \n\n\n\nVorverkauf € 15\,00: Eventbrite Ticketservice \nAbendkasse – Reservierung € 18\,00: \nTel.: +39 0473 861423 oder E-Mail: contact@gesundaltwerden.com
URL:https://gesundaltwerden.eu/vortraege/fit-und-vital-mit-den-besten-gesundmachern-aus-der-natur-toblach/
LOCATION:Bibliothek Hans Glauber – Toblach\, Gebrüder Baur Str. 5b\, Toblach\, 39034\, Italien
ATTACH;FMTTYPE=image/jpeg:https://gesundaltwerden.eu/wp-content/uploads/2019/03/Vortrag-Ruth-Sarnthein-WEB-0019-0194-Kopie-e1562835922320.jpg
END:VEVENT
BEGIN:VEVENT
DTSTART;TZID=Europe/Rome:20191113T193000
DTEND;TZID=Europe/Rome:20191113T213000
DTSTAMP:20260426T062818
CREATED:20191003T125218Z
LAST-MODIFIED:20191003T130336Z
UID:2073-1573673400-1573680600@gesundaltwerden.eu
SUMMARY:Fit und vital mit den besten Gesundmachern aus der Natur
DESCRIPTION:Ein bewusster Lebensstil ist das Fundament\, um möglichst bis ins hohe Alter fit und autonom zu bleiben. Der moderne Mensch wird heute zwar deutlich älter als noch vor 100 Jahren\, doch um seine Gesundheit ist es nicht allzu gut bestellt. Das liegt auch daran\, dass wir täglich vielen Gift- und Schadstoffen ausgesetzt sind\, die wir als solche gar nicht wahrnehmen oder von deren Existenz wir nichts wissen bzw. nichts wissen wollen.  \n\n\n\nDennoch ist es möglich\, aus eigener Kraft gesund und dynamisch zu bleiben\, wenn man die „Hauptkrankmacher“ erkennt. In meinem Vortrag erfahren Sie\,  \n\n\n\nwie Sie sich vor Schadstoffen in Lebensmittel schützen\,wie Sie Ihren Organismus mit allen nötigen Nährstoffen versorgen\, die er braucht\, um fit und vital zu bleiben\,wie Sie Ihren körpereigenen Entgiftungsmechanismus unterstützen.\n\n\nGesundheit und Vitalität sind die Grundlage für ein erfülltes Leben! All jene die wissen\, was unsere Beschwerden und Krankheiten auslöst\, stoßen unweigerlich auf die besten Gesundmacher! \n\n\n\nVorverkauf € 15\,00: Eventbrite Ticketservice \nAbendkasse – Reservierung € 18\,00: \nTel.: +39 0473 861423 oder E-Mail: contact@gesundaltwerden.com
URL:https://gesundaltwerden.eu/vortraege/fit-und-vital-mit-den-besten-gesundmachern-aus-der-natur-brixen/
LOCATION:Schlössl Perif\, Bahnhofstraße 27/1\, Brixen\, 39042\, Italien
ATTACH;FMTTYPE=image/jpeg:https://gesundaltwerden.eu/wp-content/uploads/2019/01/Wanderung-Ruth-Altenburg-WEB-0103-0123-e1549554266672.jpg
END:VEVENT
BEGIN:VEVENT
DTSTART;TZID=Europe/Rome:20191127T193000
DTEND;TZID=Europe/Rome:20191127T213000
DTSTAMP:20260426T062818
CREATED:20191003T085527Z
LAST-MODIFIED:20191003T125703Z
UID:2082-1574883000-1574890200@gesundaltwerden.eu
SUMMARY:Fit und vital mit den besten Gesundmachern aus der Natur
DESCRIPTION:Ein bewusster Lebensstil ist das Fundament\, um möglichst bis ins hohe Alter fit und autonom zu bleiben. Der moderne Mensch wird heute zwar deutlich älter als noch vor 100 Jahren\, doch um seine Gesundheit ist es nicht allzu gut bestellt. Das liegt auch daran\, dass wir täglich vielen Gift- und Schadstoffen ausgesetzt sind\, die wir als solche gar nicht wahrnehmen oder von deren Existenz wir nichts wissen bzw. nichts wissen wollen.  \n\n\n\nDennoch ist es möglich\, aus eigener Kraft gesund und dynamisch zu bleiben\, wenn man die „Hauptkrankmacher“ erkennt. In meinem Vortrag erfahren Sie\,  \n\n\n\nwie Sie sich vor Schadstoffen in Lebensmittel schützen\,wie Sie Ihren Organismus mit allen nötigen Nährstoffen versorgen\, die er braucht\, um fit und vital zu bleiben\,wie Sie Ihren körpereigenen Entgiftungsmechanismus unterstützen.\n\n\nGesundheit und Vitalität sind die Grundlage für ein erfülltes Leben! All jene die wissen\, was unsere Beschwerden und Krankheiten auslöst\, stoßen unweigerlich auf die besten Gesundmacher. \n\n\n\nVorverkauf € 15\,00: Eventbrite Ticketservice  \nAbendkasse – Reservierung € 18\,00: \nTel.: +39 0473 861423 oder E-Mail: contact@gesundaltwerden.com
URL:https://gesundaltwerden.eu/vortraege/fit-und-vital-mit-den-besten-gesundmachern-aus-der-natur-sterzing/
LOCATION:Stadttheater Sterzing\, J.-W.-von-Goethe-Platz 1\, Sterzing\, 39049\, Italien
ATTACH;FMTTYPE=image/jpeg:https://gesundaltwerden.eu/wp-content/uploads/2015/03/pexels-photo-1166419.jpeg
END:VEVENT
END:VCALENDAR